BEGIN:VCALENDAR
VERSION:2.0
PRODID:-//Le Journal des accidents et des catastrophes - ECPv6.15.20//NONSGML v1.0//EN
CALSCALE:GREGORIAN
METHOD:PUBLISH
X-WR-CALNAME:Le Journal des accidents et des catastrophes
X-ORIGINAL-URL:https://www.jac.cerdacc.uha.fr
X-WR-CALDESC:Évènements pour Le Journal des accidents et des catastrophes
REFRESH-INTERVAL;VALUE=DURATION:PT1H
X-Robots-Tag:noindex
X-PUBLISHED-TTL:PT1H
BEGIN:VTIMEZONE
TZID:Europe/Paris
BEGIN:DAYLIGHT
TZOFFSETFROM:+0100
TZOFFSETTO:+0200
TZNAME:CEST
DTSTART:20250330T010000
END:DAYLIGHT
BEGIN:STANDARD
TZOFFSETFROM:+0200
TZOFFSETTO:+0100
TZNAME:CET
DTSTART:20251026T010000
END:STANDARD
BEGIN:DAYLIGHT
TZOFFSETFROM:+0100
TZOFFSETTO:+0200
TZNAME:CEST
DTSTART:20260329T010000
END:DAYLIGHT
BEGIN:STANDARD
TZOFFSETFROM:+0200
TZOFFSETTO:+0100
TZNAME:CET
DTSTART:20261025T010000
END:STANDARD
BEGIN:DAYLIGHT
TZOFFSETFROM:+0100
TZOFFSETTO:+0200
TZNAME:CEST
DTSTART:20270328T010000
END:DAYLIGHT
BEGIN:STANDARD
TZOFFSETFROM:+0200
TZOFFSETTO:+0100
TZNAME:CET
DTSTART:20271031T010000
END:STANDARD
END:VTIMEZONE
BEGIN:VEVENT
DTSTART;TZID=Europe/Paris:20260212T080000
DTEND;TZID=Europe/Paris:20260601T170000
DTSTAMP:20260423T090504
CREATED:20260212T081947Z
LAST-MODIFIED:20260212T081947Z
UID:11357-1770883200-1780333200@www.jac.cerdacc.uha.fr
SUMMARY:APPEL A CONTRIBUTION RISEO 2026-1
DESCRIPTION:Riséo est la revue en ligne du Centre européen de recherche sur le Risque\, le Droit des Accidents\nCollectifs et des Catastrophes. Elle est consultable à l’adresse suivante :\nhttp://www.riseo.cerdacc.uha.fr. \nPour son prochain numéro 2026-1\, Riséo (Risques\, Études et Observations\, ISSN 2110-5537) lance un\nappel à contributions pour sa rubrique Varia. Comme son nom l’indique\, la rubrique a vocation à\naccueillir des contributions sur des thèmes variés\, autour de la question du ou des risques en Droit.\nRiséo est également une plateforme qui permet la publication des actes de vos colloques. N’hésitez\npas à nous contacter ! \nLa revue accepte aussi bien les propositions de professionnels du droit que celles d’universitaires.\nLes contributions de jeunes chercheurs sont également bienvenues\, de même que les écrits en langue\nétrangère\, à condition qu’ils soient accompagnés d’une traduction s’il s’agit d’une langue autre que l’anglais.\nLes contributions ne sont pas limitées en nombre de signes\, mais une charte graphique est à respecter (consultable sur http://www.riseo.cerdacc.uha.fr). Les contributions sont relues par le comité et peuvent être acceptées avec ou sans demande de modification. \nElles sont à envoyer à dariusz.piatek@uha.fr et/ou sophie.hildenbrand@uha.fr Le délai de remise est fixé au 1er juin 2026. \nVous priant d’agréer l’expression de nos sincères salutations\, Dariusz Piatek Maître de conférences en droit privé et sciences criminelles\, Université de Haute- Alsace\, co-directeur de publication Sophie Hildenbrand\, Maître de conférences en droit privé et sciences criminelles\, Université de Haute-Alsace\, co-directrice de publication
URL:https://www.jac.cerdacc.uha.fr/event/appel-a-contribution-riseo-2026-1/
LOCATION:34 rue du Grillenbreit 68000 Colmar\, 34 rue du Grillenbreit\, Colmar\, 68000\, France
CATEGORIES:Actualités du CERDACC
ATTACH;FMTTYPE=image/png:https://www.jac.cerdacc.uha.fr/wp-content/uploads/logo-riseo.png
END:VEVENT
END:VCALENDAR